<VRTDataset rasterXSize="41900" rasterYSize="59750">
  <SRS dataAxisToSRSAxisMapping="1,2">PROJCS["NAD83 / UTM zone 10N",GEOGCS["NAD83",DATUM["North_American_Datum_1983",SPHEROID["GRS 1980",6378137,298.257222101,AUTHORITY["EPSG","7019"]],AUTHORITY["EPSG","6269"]],PRIMEM["Greenwich",0,AUTHORITY["EPSG","8901"]],UNIT["degree",0.0174532925199433,AUTHORITY["EPSG","9122"]],AUTHORITY["EPSG","4269"]],PROJECTION["Transverse_Mercator"],PARAMETER["latitude_of_origin",0],PARAMETER["central_meridian",-123],PARAMETER["scale_factor",0.9996],PARAMETER["false_easting",500000],PARAMETER["false_northing",0],UNIT["metre",1,AUTHORITY["EPSG","9001"]],AXIS["Easting",EAST],AXIS["Northing",NORTH],AUTHORITY["EPSG","26910"]]</SRS>
  <GeoTransform>  4.8025005562809197e+05,  9.9999999999999992e-02,  0.0000000000000000e+00,  5.4590450148823326e+06,  0.0000000000000000e+00, -9.9999999999999992e-02</GeoTransform>
  <VRTRasterBand dataType="Byte" band="1">
    <Metadata>
      <MDI key="STATISTICS_APPROXIMATE">YES</MDI>
      <MDI key="STATISTICS_MAXIMUM">255</MDI>
      <MDI key="STATISTICS_MEAN">95.918745221713</MDI>
      <MDI key="STATISTICS_MINIMUM">1</MDI>
      <MDI key="STATISTICS_STDDEV">41.463856565598</MDI>
      <MDI key="STATISTICS_VALID_PERCENT">100</MDI>
    </Metadata>
    <ColorInterp>Red</ColorInterp>
    <SimpleSource resampling="nearest">
      <SourceFilename relativeToVRT="0">/vsicurl/https://206-12-122-94.cloud.computecanada.ca/UBC_ORTHOPHOTOS/UBC_ORTHOPHOTO_2023_COG.tif</SourceFilename>
      <SourceBand>1</SourceBand>
      <SourceProperties RasterXSize="41900" RasterYSize="59750" DataType="Byte" BlockXSize="512" BlockYSize="512" />
      <SrcRect xOff="0" yOff="0" xSize="41900" ySize="59750" />
      <DstRect xOff="0" yOff="0" xSize="41900" ySize="59750" />
    </SimpleSource>
  </VRTRasterBand>
  <VRTRasterBand dataType="Byte" band="2">
    <Metadata>
      <MDI key="STATISTICS_APPROXIMATE">YES</MDI>
      <MDI key="STATISTICS_MAXIMUM">255</MDI>
      <MDI key="STATISTICS_MEAN">102.80000477829</MDI>
      <MDI key="STATISTICS_MINIMUM">21</MDI>
      <MDI key="STATISTICS_STDDEV">36.489330043115</MDI>
      <MDI key="STATISTICS_VALID_PERCENT">100</MDI>
    </Metadata>
    <ColorInterp>Green</ColorInterp>
    <SimpleSource resampling="nearest">
      <SourceFilename relativeToVRT="0">/vsicurl/https://206-12-122-94.cloud.computecanada.ca/UBC_ORTHOPHOTOS/UBC_ORTHOPHOTO_2023_COG.tif</SourceFilename>
      <SourceBand>2</SourceBand>
      <SourceProperties RasterXSize="41900" RasterYSize="59750" DataType="Byte" BlockXSize="512" BlockYSize="512" />
      <SrcRect xOff="0" yOff="0" xSize="41900" ySize="59750" />
      <DstRect xOff="0" yOff="0" xSize="41900" ySize="59750" />
    </SimpleSource>
  </VRTRasterBand>
  <VRTRasterBand dataType="Byte" band="3">
    <Metadata>
      <MDI key="STATISTICS_APPROXIMATE">YES</MDI>
      <MDI key="STATISTICS_MAXIMUM">255</MDI>
      <MDI key="STATISTICS_MEAN">89.610569571865</MDI>
      <MDI key="STATISTICS_MINIMUM">35</MDI>
      <MDI key="STATISTICS_STDDEV">31.292247544774</MDI>
      <MDI key="STATISTICS_VALID_PERCENT">100</MDI>
    </Metadata>
    <ColorInterp>Blue</ColorInterp>
    <SimpleSource resampling="nearest">
      <SourceFilename relativeToVRT="0">/vsicurl/https://206-12-122-94.cloud.computecanada.ca/UBC_ORTHOPHOTOS/UBC_ORTHOPHOTO_2023_COG.tif</SourceFilename>
      <SourceBand>3</SourceBand>
      <SourceProperties RasterXSize="41900" RasterYSize="59750" DataType="Byte" BlockXSize="512" BlockYSize="512" />
      <SrcRect xOff="0" yOff="0" xSize="41900" ySize="59750" />
      <DstRect xOff="0" yOff="0" xSize="41900" ySize="59750" />
    </SimpleSource>
  </VRTRasterBand>
  <OverviewList resampling="nearest">2 4 8 16 32 64 128</OverviewList>
</VRTDataset>
