<VRTDataset rasterXSize="70000" rasterYSize="70000">
  <SRS dataAxisToSRSAxisMapping="1,2">PROJCS["NAD83 / UTM zone 10N",GEOGCS["NAD83",DATUM["North_American_Datum_1983",SPHEROID["GRS 1980",6378137,298.257222101,AUTHORITY["EPSG","7019"]],AUTHORITY["EPSG","6269"]],PRIMEM["Greenwich",0,AUTHORITY["EPSG","8901"]],UNIT["degree",0.0174532925199433,AUTHORITY["EPSG","9122"]],AUTHORITY["EPSG","4269"]],PROJECTION["Transverse_Mercator"],PARAMETER["latitude_of_origin",0],PARAMETER["central_meridian",-123],PARAMETER["scale_factor",0.9996],PARAMETER["false_easting",500000],PARAMETER["false_northing",0],UNIT["metre",1,AUTHORITY["EPSG","9001"]],AXIS["Easting",EAST],AXIS["Northing",NORTH],AUTHORITY["EPSG","26910"]]</SRS>
  <GeoTransform>  4.8000000000000000e+05,  1.0000000000000001e-01,  0.0000000000000000e+00,  5.4590000000000000e+06,  0.0000000000000000e+00, -1.0000000000000001e-01</GeoTransform>
  <VRTRasterBand dataType="Byte" band="1">
    <Metadata>
      <MDI key="STATISTICS_APPROXIMATE">YES</MDI>
      <MDI key="STATISTICS_MAXIMUM">255</MDI>
      <MDI key="STATISTICS_MEAN">97.601076590895</MDI>
      <MDI key="STATISTICS_MINIMUM">0</MDI>
      <MDI key="STATISTICS_STDDEV">57.484030890272</MDI>
      <MDI key="STATISTICS_VALID_PERCENT">100</MDI>
    </Metadata>
    <ColorInterp>Red</ColorInterp>
    <SimpleSource resampling="nearest">
      <SourceFilename relativeToVRT="0">/vsicurl/https://206-12-122-94.cloud.computecanada.ca/UBC_ORTHOPHOTOS/UBC_ORTHOPHOTO_2025_COG.tif</SourceFilename>
      <SourceBand>1</SourceBand>
      <SourceProperties RasterXSize="70000" RasterYSize="70000" DataType="Byte" BlockXSize="512" BlockYSize="512" />
      <SrcRect xOff="0" yOff="0" xSize="70000" ySize="70000" />
      <DstRect xOff="0" yOff="0" xSize="70000" ySize="70000" />
    </SimpleSource>
  </VRTRasterBand>
  <VRTRasterBand dataType="Byte" band="2">
    <Metadata>
      <MDI key="STATISTICS_APPROXIMATE">YES</MDI>
      <MDI key="STATISTICS_MAXIMUM">255</MDI>
      <MDI key="STATISTICS_MEAN">101.39965812991</MDI>
      <MDI key="STATISTICS_MINIMUM">0</MDI>
      <MDI key="STATISTICS_STDDEV">56.984693433189</MDI>
      <MDI key="STATISTICS_VALID_PERCENT">100</MDI>
    </Metadata>
    <ColorInterp>Green</ColorInterp>
    <SimpleSource resampling="nearest">
      <SourceFilename relativeToVRT="0">/vsicurl/https://206-12-122-94.cloud.computecanada.ca/UBC_ORTHOPHOTOS/UBC_ORTHOPHOTO_2025_COG.tif</SourceFilename>
      <SourceBand>2</SourceBand>
      <SourceProperties RasterXSize="70000" RasterYSize="70000" DataType="Byte" BlockXSize="512" BlockYSize="512" />
      <SrcRect xOff="0" yOff="0" xSize="70000" ySize="70000" />
      <DstRect xOff="0" yOff="0" xSize="70000" ySize="70000" />
    </SimpleSource>
  </VRTRasterBand>
  <VRTRasterBand dataType="Byte" band="3">
    <Metadata>
      <MDI key="STATISTICS_APPROXIMATE">YES</MDI>
      <MDI key="STATISTICS_MAXIMUM">255</MDI>
      <MDI key="STATISTICS_MEAN">89.312391291309</MDI>
      <MDI key="STATISTICS_MINIMUM">0</MDI>
      <MDI key="STATISTICS_STDDEV">58.245287015199</MDI>
      <MDI key="STATISTICS_VALID_PERCENT">100</MDI>
    </Metadata>
    <ColorInterp>Blue</ColorInterp>
    <SimpleSource resampling="nearest">
      <SourceFilename relativeToVRT="0">/vsicurl/https://206-12-122-94.cloud.computecanada.ca/UBC_ORTHOPHOTOS/UBC_ORTHOPHOTO_2025_COG.tif</SourceFilename>
      <SourceBand>3</SourceBand>
      <SourceProperties RasterXSize="70000" RasterYSize="70000" DataType="Byte" BlockXSize="512" BlockYSize="512" />
      <SrcRect xOff="0" yOff="0" xSize="70000" ySize="70000" />
      <DstRect xOff="0" yOff="0" xSize="70000" ySize="70000" />
    </SimpleSource>
  </VRTRasterBand>
  <OverviewList resampling="nearest">2 4 8 16 32 64 128</OverviewList>
</VRTDataset>
